BEGIN:VCALENDAR
VERSION:2.0
PRODID:-//PYVOBJECT//NONSGML Version 1//EN
BEGIN:VEVENT
UID:19984:1537
DTSTART:20130618T000000
DTEND:20130630T000000
DESCRIPTION:&nbsp\;
DTSTAMP:20260425T180110Z
SUMMARY:-30 % Rabatt auf GGL-Taschen
END:VEVENT
END:VCALENDAR
